BEGIN:VCALENDAR
VERSION:2.0
PRODID:-//United Way Greenville - ECPv6.15.18//NONSGML v1.0//EN
CALSCALE:GREGORIAN
METHOD:PUBLISH
X-ORIGINAL-URL:https://www.unitedwaygc.org
X-WR-CALDESC:Events for United Way Greenville
REFRESH-INTERVAL;VALUE=DURATION:PT1H
X-Robots-Tag:noindex
X-PUBLISHED-TTL:PT1H
BEGIN:VTIMEZONE
TZID:America/New_York
BEGIN:DAYLIGHT
TZOFFSETFROM:-0500
TZOFFSETTO:-0400
TZNAME:EDT
DTSTART:20240310T070000
END:DAYLIGHT
BEGIN:STANDARD
TZOFFSETFROM:-0400
TZOFFSETTO:-0500
TZNAME:EST
DTSTART:20241103T060000
END:STANDARD
BEGIN:DAYLIGHT
TZOFFSETFROM:-0500
TZOFFSETTO:-0400
TZNAME:EDT
DTSTART:20250309T070000
END:DAYLIGHT
BEGIN:STANDARD
TZOFFSETFROM:-0400
TZOFFSETTO:-0500
TZNAME:EST
DTSTART:20251102T060000
END:STANDARD
BEGIN:DAYLIGHT
TZOFFSETFROM:-0500
TZOFFSETTO:-0400
TZNAME:EDT
DTSTART:20260308T070000
END:DAYLIGHT
BEGIN:STANDARD
TZOFFSETFROM:-0400
TZOFFSETTO:-0500
TZNAME:EST
DTSTART:20261101T060000
END:STANDARD
BEGIN:DAYLIGHT
TZOFFSETFROM:-0500
TZOFFSETTO:-0400
TZNAME:EDT
DTSTART:20270314T070000
END:DAYLIGHT
BEGIN:STANDARD
TZOFFSETFROM:-0400
TZOFFSETTO:-0500
TZNAME:EST
DTSTART:20271107T060000
END:STANDARD
END:VTIMEZONE
BEGIN:VEVENT
DTSTART;TZID=America/New_York:20251120T180000
DTEND;TZID=America/New_York:20251120T200000
DTSTAMP:20260421T225312
CREATED:20251110T183635Z
LAST-MODIFIED:20251110T183635Z
UID:18074-1763661600-1763668800@www.unitedwaygc.org
SUMMARY:Young Leader Society's Holiday Happy Hour
DESCRIPTION:Kick off the holiday season with United Way’s Young Leaders Society! Join us Thursday\, Nov. 20\, at 6 p.m. at Double Stamp for a festive brew and holiday card writing. Swing by to hang out\, grab a bite and enjoy a drink! \nVolunteer to Spread Joy \nBefore happy hour\, a group of YLS elves will go shopping for gifts for middle and high school students served by United Way’s Project Joy initiative. We’ll meet at the United Way office (105 Edinburgh Court\, Greenville) at 4:30 p.m.\, then head to Double Stamp. \nPlease email Sophie at styndall@unitedwaygc.org if you plan to attend happy hour and/or join the shopping crew.
URL:https://www.unitedwaygc.org/event/young-leader-societys-holiday-happy-hour/
LOCATION:Double Stamp Brewery\, 819 Laurens Rd\, GREENVILLE\, SC\, 29607-2529\, United States
ORGANIZER;CN="Young Leaders Society":MAILTO:events@unitedwaygc.org
END:VEVENT
BEGIN:VEVENT
DTSTART;TZID=America/New_York:20260116T200000
DTEND;TZID=America/New_York:20260116T230000
DTSTAMP:20260421T225312
CREATED:20260108T220725Z
LAST-MODIFIED:20260108T220725Z
UID:18390-1768593600-1768604400@www.unitedwaygc.org
SUMMARY:Amplify: A Silent Disco Benefitting United Way
DESCRIPTION:Event Details\n\n\n\nWe’re all better when we’re dancing. Grab your friends and get ready to put on your dancing shoes and headphones! You’re invited to Amplify: A Silent Disco Benefitting United Way on the Bon Secours Wellness Arena floor. \nThe event will feature an immersive multi-channel silent disco experience with three live DJs\, including DJ Sha and DJ Dee Money. LED headphones will transform the arena floor into a vibrant dance space complete with seating areas\, concessions\, and full bar service. \nTickets are $15 all-in and can be purchased online via Ticketmaster or at the GSP International Airport Box Office at the arena.Tickets go on sale Monday\, Dec. 15 at 10AM. \nA VIP Package will be available to purchase as an add-on ticket and includes access to an exclusive\, premier area on the arena floor\, parking in the arena’s VIP Lot\, a private bar\, and complimentary Chef-prepared hors d’oeuvres\, beer\, wine and non-alcoholic beverages (spirits available for purchase). \nThe best part is all proceeds from Amplify will go directly to United Way!
URL:https://www.unitedwaygc.org/event/amplify-a-silent-disco-benefitting-united-way/
LOCATION:Bon Secours Wellness Arena\, 650 North Academy Street\, Greenville\, SC\, 29601\, United States
END:VEVENT
BEGIN:VEVENT
DTSTART;TZID=America/New_York:20260119T130000
DTEND;TZID=America/New_York:20260119T180000
DTSTAMP:20260421T225312
CREATED:20260106T220835Z
LAST-MODIFIED:20260106T220835Z
UID:18370-1768827600-1768845600@www.unitedwaygc.org
SUMMARY:Unity Career Readiness Event
DESCRIPTION:  \nIn honor of MLK Day\, United Way of Greenville County is partnering with The Unity Weekend to bring college and career development resources to the Unity College & Career Expo. \nThis free community event will connect students and young adults with Black professionals across a wide range of industries for real\, practical guidance on college pathways\, career readiness\, and today’s job market. Attendees can receive resume feedback\, participate in mock interviews\, ask candid career questions\, and gain insight into opportunities that are often not publicly shared. \nVolunteer Opportunity:\nProfessionals interested in supporting students through resume reviews\, mock interviews\, or an “Ask a Professional” space are encouraged to get involved. No formal presentations required. \nInterested in volunteering or learning more?\nContact kchapman@unitedwaygc.org
URL:https://www.unitedwaygc.org/event/unity-career-readiness-event/
LOCATION:University Center (McAlister Square)\, 225 S. Pleasantburg Dr. Suite A7\, Greenville\, SC\, 29607\, United States
END:VEVENT
BEGIN:VEVENT
DTSTART;VALUE=DATE:20260502
DTEND;VALUE=DATE:20260503
DTSTAMP:20260421T225312
CREATED:20260226T220046Z
LAST-MODIFIED:20260226T220313Z
UID:19003-1777680000-1777766399@www.unitedwaygc.org
SUMMARY:HANDS ON GREENVILLE DAY
DESCRIPTION:Saturday May 2nd\, 2026\n\n\n\n\nHands On Greenville (HOG) Day is United Way of Greenville County’s largest annual day of service\, when thousands of neighbors come together to turn community needs into action. From planting gardens and painting classrooms to assembling care kits and revitalizing shared spaces\, HOG Day offers volunteer opportunities for all ages and abilities. \n\n\n\n\n\n\n\n\nWhat is Hands On Greenville (HOG) Day?​\n\n\n\n\nEach year: \n\nLocal nonprofits\, schools and community organizations submit service projects.\nIndividuals\, families\, companies and faith-based groups sign up to serve.\nThousands of volunteers complete hands-on projects across Greenville County — all in one powerful morning.\n\n\nTo sign up as a volunteer or to request a project\, click here.
URL:https://www.unitedwaygc.org/event/hands-on-greenville-day-2/
ATTACH;FMTTYPE=image/jpeg:https://unitedwaygc-media.s3.amazonaws.com/wp-content/uploads/2026/02/26170033/IMG_5034-copy.jpg
END:VEVENT
BEGIN:VEVENT
DTSTART;TZID=America/New_York:20261123T113000
DTEND;TZID=America/New_York:20261123T133000
DTSTAMP:20260421T225312
CREATED:20260226T221314Z
LAST-MODIFIED:20260226T221400Z
UID:19010-1795433400-1795440600@www.unitedwaygc.org
SUMMARY:Gratefull Greenville
DESCRIPTION:One Meal\, One Street\, One Greenville\n\n\n\n\nGratefull GVL returns in 2026 under the leadership of United Way of Greenville County — a celebration of community\, connection\, and the shared belief that everyone deserves a seat at the table. This free\, public Thanksgiving meal brings neighbors\, coworkers\, families\, and strangers together for a moment of gratitude and belonging as Main Street transforms into one long table filled with good food\, conversation\, and the spirit that defines Greenville County. \nAll food is generously donated and safely prepared by our local restaurant partners\, and any surplus funding helps support the community year-round. \n\n\n\nHow Can I Help?\n\n\n\n\nWe’re so glad you want to help! There are many ways to take part in this community tradition. \n\n\n\n\n\n\n\nBecome a Sponsor: Help bring Gratefull GVL 2026 to life and ensure everyone in our community has a seat at the table.\nSupport the Event: Your gift helps make this meal possible\, with surplus funds supporting local food share programs that feed families year-round.\nRestaurant Partners: Interested in donating food or serving at the event? We’d love to hear from you.\n\n\n\n\n\n\n\n\n\n\n\n\n\nVolunteer opportunities will be announced in the coming months.\nInterested in sponsoring or donating? Learn more here. 
URL:https://www.unitedwaygc.org/event/gratefull-greenville/
LOCATION:MAIN ST. BRIDGE\, MAIN ST. BRIDGE\, Greenville\, 29601\, United States
ATTACH;FMTTYPE=image/jpeg:https://unitedwaygc-media.s3.amazonaws.com/wp-content/uploads/2026/02/26171221/477571836_609894471656054_5125851464056309167_n.jpg
END:VEVENT
END:VCALENDAR