BEGIN:VCALENDAR
VERSION:2.0
PRODID:-//United Way Greenville - ECPv6.15.18//NONSGML v1.0//EN
CALSCALE:GREGORIAN
METHOD:PUBLISH
X-WR-CALNAME:United Way Greenville
X-ORIGINAL-URL:https://www.unitedwaygc.org
X-WR-CALDESC:Events for United Way Greenville
REFRESH-INTERVAL;VALUE=DURATION:PT1H
X-Robots-Tag:noindex
X-PUBLISHED-TTL:PT1H
BEGIN:VTIMEZONE
TZID:America/New_York
BEGIN:DAYLIGHT
TZOFFSETFROM:-0500
TZOFFSETTO:-0400
TZNAME:EDT
DTSTART:20240310T070000
END:DAYLIGHT
BEGIN:STANDARD
TZOFFSETFROM:-0400
TZOFFSETTO:-0500
TZNAME:EST
DTSTART:20241103T060000
END:STANDARD
BEGIN:DAYLIGHT
TZOFFSETFROM:-0500
TZOFFSETTO:-0400
TZNAME:EDT
DTSTART:20250309T070000
END:DAYLIGHT
BEGIN:STANDARD
TZOFFSETFROM:-0400
TZOFFSETTO:-0500
TZNAME:EST
DTSTART:20251102T060000
END:STANDARD
BEGIN:DAYLIGHT
TZOFFSETFROM:-0500
TZOFFSETTO:-0400
TZNAME:EDT
DTSTART:20260308T070000
END:DAYLIGHT
BEGIN:STANDARD
TZOFFSETFROM:-0400
TZOFFSETTO:-0500
TZNAME:EST
DTSTART:20261101T060000
END:STANDARD
END:VTIMEZONE
BEGIN:VEVENT
DTSTART;TZID=America/New_York:20250802T090000
DTEND;TZID=America/New_York:20250802T140000
DTSTAMP:20260422T023534
CREATED:20250612T163100Z
LAST-MODIFIED:20250612T163244Z
UID:16763-1754125200-1754143200@www.unitedwaygc.org
SUMMARY:School Tools
DESCRIPTION:Join United Way of Greenville County at Carolina High School for our annual School Tools distribution day! Students and their families are invited to this special back-to-school celebration where they can pick up free backpacks stuffed with all the supplies they’ll need for the school year\, while also connecting with local organizations providing free and low-cost resources.
URL:https://www.unitedwaygc.org/event/school-tools/
LOCATION:Carolina High School\, 2725 Anderson Road\, Greenville\, 29611\, United States
END:VEVENT
END:VCALENDAR